BEGIN:VCALENDAR
VERSION:2.0
PRODID:-//eventon.com NONSGML v1.0//EN
CALSCALE:GREGORIAN
METHOD:PUBLISH
BEGIN:VEVENT
UID:69e77a1e49ee5
DTSTAMP:20260421T132238Z
DTSTART:20260926T080000Z
DTEND:20260926T150000Z
LOCATION:
SUMMARY:The Journey Amsterdam
DESCRIPTION:“Through dance i’ve journed\,  through my body\,  into my h
 eart\,  past my mind\,  into another dimension of existence I call ecstasy 
 Total communion with spirit”  Gabrielle Roth founder 5Rhythms® We are w
 anderers in the million miles between the head and the feet as we move thro
 ugh life. The Journey is[..]\nhttps://5rhythmsbyjup.com/events/the-journey-
 amsterdam/
URL:https://5rhythmsbyjup.com/events/the-journey-amsterdam/
END:VEVENT
END:VCALENDAR